BEGIN:VCALENDAR
VERSION:2.0
PRODID:-//Made in Chimay - Tiers-lieu pour créateurs chimacien ! - ECPv6.15.17.1//NONSGML v1.0//EN
CALSCALE:GREGORIAN
METHOD:PUBLISH
X-ORIGINAL-URL:https://madeinchimay.be
X-WR-CALDESC:Évènements pour Made in Chimay - Tiers-lieu pour créateurs chimacien !
REFRESH-INTERVAL;VALUE=DURATION:PT1H
X-Robots-Tag:noindex
X-PUBLISHED-TTL:PT1H
BEGIN:VTIMEZONE
TZID:Europe/Zurich
BEGIN:DAYLIGHT
TZOFFSETFROM:+0100
TZOFFSETTO:+0200
TZNAME:CEST
DTSTART:20230326T010000
END:DAYLIGHT
BEGIN:STANDARD
TZOFFSETFROM:+0200
TZOFFSETTO:+0100
TZNAME:CET
DTSTART:20231029T010000
END:STANDARD
BEGIN:DAYLIGHT
TZOFFSETFROM:+0100
TZOFFSETTO:+0200
TZNAME:CEST
DTSTART:20240331T010000
END:DAYLIGHT
BEGIN:STANDARD
TZOFFSETFROM:+0200
TZOFFSETTO:+0100
TZNAME:CET
DTSTART:20241027T010000
END:STANDARD
BEGIN:DAYLIGHT
TZOFFSETFROM:+0100
TZOFFSETTO:+0200
TZNAME:CEST
DTSTART:20250330T010000
END:DAYLIGHT
BEGIN:STANDARD
TZOFFSETFROM:+0200
TZOFFSETTO:+0100
TZNAME:CET
DTSTART:20251026T010000
END:STANDARD
END:VTIMEZONE
BEGIN:VEVENT
DTSTART;TZID=Europe/Zurich:20240217T090000
DTEND;TZID=Europe/Zurich:20240217T120000
DTSTAMP:20260421T034225
CREATED:20240313T104811Z
LAST-MODIFIED:20240313T104933Z
UID:34641-1708160400-1708171200@madeinchimay.be
SUMMARY:WordPress / Divi - Jour 2
DESCRIPTION:✅ 2024 est là… et si vous lanciez enfin ce site web dont vous avez toujours rêvé ? 💻\n📆 De février à avril\, nous proposons 6 ateliers de création de site web #wordpress afin de faire connaître votre activité #madeinchimay\n👥 Que vous soyez étudiants\, entrepreneurs\, artistes\, artisans\, producteurs ou membre d’une association\, ces ateliers sont fait pour vous ! \nCette formation est complète mais n’hésitez pas à nous contacter à info@madeinchimay.be si vous êtes intéressé.e par de prochaines dates.
URL:https://madeinchimay.be/agenda/wordpress-divi-jour-2/
LOCATION:Made in Chimay\, Rue d'Angleterre 10\, Chimay\, 6460\, Belgique
CATEGORIES:Formations
ATTACH;FMTTYPE=image/png:https://madeinchimay.be/wp-content/uploads/2024/03/Atelier-Webdesign.png
ORGANIZER;CN="Made in Chimay":MAILTO:mic@chimayville.be
END:VEVENT
END:VCALENDAR