BEGIN:VCALENDAR
VERSION:2.0
PRODID:-//Made in Chimay - Tiers-lieu pour créateurs chimacien ! - ECPv6.15.17.1//NONSGML v1.0//EN
CALSCALE:GREGORIAN
METHOD:PUBLISH
X-ORIGINAL-URL:https://madeinchimay.be
X-WR-CALDESC:Évènements pour Made in Chimay - Tiers-lieu pour créateurs chimacien !
REFRESH-INTERVAL;VALUE=DURATION:PT1H
X-Robots-Tag:noindex
X-PUBLISHED-TTL:PT1H
BEGIN:VTIMEZONE
TZID:Europe/Zurich
BEGIN:DAYLIGHT
TZOFFSETFROM:+0100
TZOFFSETTO:+0200
TZNAME:CEST
DTSTART:20230326T010000
END:DAYLIGHT
BEGIN:STANDARD
TZOFFSETFROM:+0200
TZOFFSETTO:+0100
TZNAME:CET
DTSTART:20231029T010000
END:STANDARD
BEGIN:DAYLIGHT
TZOFFSETFROM:+0100
TZOFFSETTO:+0200
TZNAME:CEST
DTSTART:20240331T010000
END:DAYLIGHT
BEGIN:STANDARD
TZOFFSETFROM:+0200
TZOFFSETTO:+0100
TZNAME:CET
DTSTART:20241027T010000
END:STANDARD
BEGIN:DAYLIGHT
TZOFFSETFROM:+0100
TZOFFSETTO:+0200
TZNAME:CEST
DTSTART:20250330T010000
END:DAYLIGHT
BEGIN:STANDARD
TZOFFSETFROM:+0200
TZOFFSETTO:+0100
TZNAME:CET
DTSTART:20251026T010000
END:STANDARD
END:VTIMEZONE
BEGIN:VEVENT
DTSTART;TZID=Europe/Zurich:20240504T100000
DTEND;TZID=Europe/Zurich:20240505T180000
DTSTAMP:20260420T210350
CREATED:20240313T100434Z
LAST-MODIFIED:20250403T103213Z
UID:34632-1714816800-1714932000@madeinchimay.be
SUMMARY:Sortie Officielle "Zoé & Léo"
DESCRIPTION:👤 A l’occasion de la sortie de leur BD #madeinchimay « Zoé & Léo »\, Guillaume aka Gyom et Laurie – sa co-autrice et compagne – prendront possession de nos espaces durant une exposition de 2 mois\, avec plusieurs dates à ne pas manquer ! \n Vernissage de l’expo avec 15 planches inédites le jeudi 18 avril\n Sortie officielle avec séance de dédicace les 04 et 05 mai\n Clôture de l’exposition et conférence de presse le samedi 22 juin
URL:https://madeinchimay.be/agenda/sortie-officielle-zoe-leo/
LOCATION:Made in Chimay\, Rue d'Angleterre 10\, Chimay\, 6460\, Belgique
CATEGORIES:Exposition
ATTACH;FMTTYPE=image/png:https://madeinchimay.be/wp-content/uploads/2024/03/Expo-Gyom-Sortie.png
ORGANIZER;CN="Made in Chimay":MAILTO:mic@chimayville.be
END:VEVENT
END:VCALENDAR