BEGIN:VCALENDAR
VERSION:2.0
PRODID:-//Made in Chimay - Tiers-lieu pour créateurs chimacien ! - ECPv6.15.17.1//NONSGML v1.0//EN
CALSCALE:GREGORIAN
METHOD:PUBLISH
X-WR-CALNAME:Made in Chimay - Tiers-lieu pour créateurs chimacien !
X-ORIGINAL-URL:https://madeinchimay.be
X-WR-CALDESC:Évènements pour Made in Chimay - Tiers-lieu pour créateurs chimacien !
REFRESH-INTERVAL;VALUE=DURATION:PT1H
X-Robots-Tag:noindex
X-PUBLISHED-TTL:PT1H
BEGIN:VTIMEZONE
TZID:Europe/Zurich
BEGIN:DAYLIGHT
TZOFFSETFROM:+0100
TZOFFSETTO:+0200
TZNAME:CEST
DTSTART:20230326T010000
END:DAYLIGHT
BEGIN:STANDARD
TZOFFSETFROM:+0200
TZOFFSETTO:+0100
TZNAME:CET
DTSTART:20231029T010000
END:STANDARD
BEGIN:DAYLIGHT
TZOFFSETFROM:+0100
TZOFFSETTO:+0200
TZNAME:CEST
DTSTART:20240331T010000
END:DAYLIGHT
BEGIN:STANDARD
TZOFFSETFROM:+0200
TZOFFSETTO:+0100
TZNAME:CET
DTSTART:20241027T010000
END:STANDARD
BEGIN:DAYLIGHT
TZOFFSETFROM:+0100
TZOFFSETTO:+0200
TZNAME:CEST
DTSTART:20250330T010000
END:DAYLIGHT
BEGIN:STANDARD
TZOFFSETFROM:+0200
TZOFFSETTO:+0100
TZNAME:CET
DTSTART:20251026T010000
END:STANDARD
END:VTIMEZONE
BEGIN:VEVENT
DTSTART;TZID=Europe/Zurich:20240905T170000
DTEND;TZID=Europe/Zurich:20240905T190000
DTSTAMP:20260421T025451
CREATED:20240724T150142Z
LAST-MODIFIED:20250403T103357Z
UID:35093-1725555600-1725562800@madeinchimay.be
SUMMARY:AfterWork avec l'Escaillonne
DESCRIPTION:🍻 Vous êtes conviés à une expérience gustative unique au sein de nos espaces en compagnie d’une brasserie locale. 🍺\nDans une ambiance chaleureuse et conviviale\, venez échanger avec d’autres amateurs et laissez-vous emporter par la passion de la bière artisanale. 🤝 Réservez votre place dès maintenant et partagez ce moment inoubliable avec nous !
URL:https://madeinchimay.be/agenda/afterwork-avec-lescaillonne/
LOCATION:Made in Chimay\, Rue d'Angleterre 10\, Chimay\, 6460\, Belgique
CATEGORIES:Convivialité
ATTACH;FMTTYPE=image/jpeg:https://madeinchimay.be/wp-content/uploads/2024/07/1.jpg
ORGANIZER;CN="Made in Chimay":MAILTO:mic@chimayville.be
END:VEVENT
END:VCALENDAR