BEGIN:VCALENDAR
VERSION:2.0
PRODID:-//Made in Chimay - Tiers-lieu pour créateurs chimacien ! - ECPv6.15.17.1//NONSGML v1.0//EN
CALSCALE:GREGORIAN
METHOD:PUBLISH
X-WR-CALNAME:Made in Chimay - Tiers-lieu pour créateurs chimacien !
X-ORIGINAL-URL:https://madeinchimay.be
X-WR-CALDESC:Évènements pour Made in Chimay - Tiers-lieu pour créateurs chimacien !
REFRESH-INTERVAL;VALUE=DURATION:PT1H
X-Robots-Tag:noindex
X-PUBLISHED-TTL:PT1H
BEGIN:VTIMEZONE
TZID:Europe/Zurich
BEGIN:DAYLIGHT
TZOFFSETFROM:+0100
TZOFFSETTO:+0200
TZNAME:CEST
DTSTART:20230326T010000
END:DAYLIGHT
BEGIN:STANDARD
TZOFFSETFROM:+0200
TZOFFSETTO:+0100
TZNAME:CET
DTSTART:20231029T010000
END:STANDARD
BEGIN:DAYLIGHT
TZOFFSETFROM:+0100
TZOFFSETTO:+0200
TZNAME:CEST
DTSTART:20240331T010000
END:DAYLIGHT
BEGIN:STANDARD
TZOFFSETFROM:+0200
TZOFFSETTO:+0100
TZNAME:CET
DTSTART:20241027T010000
END:STANDARD
BEGIN:DAYLIGHT
TZOFFSETFROM:+0100
TZOFFSETTO:+0200
TZNAME:CEST
DTSTART:20250330T010000
END:DAYLIGHT
BEGIN:STANDARD
TZOFFSETFROM:+0200
TZOFFSETTO:+0100
TZNAME:CET
DTSTART:20251026T010000
END:STANDARD
END:VTIMEZONE
BEGIN:VEVENT
DTSTART;TZID=Europe/Zurich:20240516T170000
DTEND;TZID=Europe/Zurich:20240516T190000
DTSTAMP:20260420T082241
CREATED:20240417T100937Z
LAST-MODIFIED:20240417T135549Z
UID:34882-1715878800-1715886000@madeinchimay.be
SUMMARY:Atelier IA & ChatGPT
DESCRIPTION:Le principal objectif est de fournir aux entrepreneur.s.se.s \, créateurs.rice.s\, indépendant.e.s des connaissances fondamentales sur l’intelligence artificielle générative et son application pratique via des outils tels que ChatGPT. \nContenu détaillé : \n\nIntroduction à l’IA générative : Présentation des concepts clés de l’IA et exploration de son potentiel dans le monde du travail.\nUtilisation de ChatGPT : Introduction et explications sur le fonctionnement de ChatGPT\, avec un usecase d’une entreprise factice où l’on créera sa marque\, son produit et le contenu de ses posts pour la communication.\nCréation de contenu : Techniques pour utiliser l’IA dans la création de contenu de qualité\, destiné à différents canaux de communication.\nMéthodologie et pratique : Sessions pratiques où les participants appliqueront les concepts appris pour formuler des solutions spécifiques à leurs besoins.\nConclusion & questions : Réponse aux différentes questions\, point sur l’éthique\, les études en matière de performance et la vision d’un outil plutôt que d’un remplacement.\n\nCet atelier est conçu pour permettre aux participants de comprendre et d’utiliser efficacement l’IA dans leurs activités quotidiennes\, leur offrant ainsi un avantage compétitif dans leur domaine. \nAfin de tirer parti de l’atelier\, veuillez créer votre compte sur https://chat.openai.com
URL:https://madeinchimay.be/agenda/atelier-ia-chatgpt/
LOCATION:Made in Chimay\, Rue d'Angleterre 10\, Chimay\, 6460\, Belgique
CATEGORIES:initiations
ATTACH;FMTTYPE=image/png:https://madeinchimay.be/wp-content/uploads/2024/04/Atelier-IA.png
ORGANIZER;CN="Made in Chimay":MAILTO:mic@chimayville.be
END:VEVENT
BEGIN:VEVENT
DTSTART;TZID=Europe/Zurich:20240530T170000
DTEND;TZID=Europe/Zurich:20240530T190000
DTSTAMP:20260420T082241
CREATED:20240429T095838Z
LAST-MODIFIED:20240502T093821Z
UID:34916-1717088400-1717095600@madeinchimay.be
SUMMARY:Atelier Impression 3D - Réparation d'objets
DESCRIPTION:✅ Apprenez à utiliser les logiciels Tinkercad (3D) et Inkscape (2D) pour réparer vos objets du quotidien et bien plus ! \n👨‍🔧 Découvrez l’usage de l’imprimante 3D et ses fonctionnalités variées ! \n👥 Que vous soyez étudiants\, entrepreneurs\, artistes\, artisans\, producteurs ou membre d’une association\, ces ateliers sont faits pour vous !
URL:https://madeinchimay.be/agenda/atelier-impression-3d/
LOCATION:Made in Chimay\, Rue d'Angleterre 10\, Chimay\, 6460\, Belgique
CATEGORIES:initiations
ATTACH;FMTTYPE=image/png:https://madeinchimay.be/wp-content/uploads/2024/04/3D-Reparation-20-mai-1.png
ORGANIZER;CN="Made in Chimay":MAILTO:mic@chimayville.be
END:VEVENT
END:VCALENDAR