BEGIN:VCALENDAR
VERSION:2.0
PRODID:-//Made in Chimay - Tiers-lieu pour créateurs chimacien ! - ECPv6.15.17.1//NONSGML v1.0//EN
CALSCALE:GREGORIAN
METHOD:PUBLISH
X-ORIGINAL-URL:https://madeinchimay.be
X-WR-CALDESC:Évènements pour Made in Chimay - Tiers-lieu pour créateurs chimacien !
REFRESH-INTERVAL;VALUE=DURATION:PT1H
X-Robots-Tag:noindex
X-PUBLISHED-TTL:PT1H
BEGIN:VTIMEZONE
TZID:Europe/Zurich
BEGIN:DAYLIGHT
TZOFFSETFROM:+0100
TZOFFSETTO:+0200
TZNAME:CEST
DTSTART:20230326T010000
END:DAYLIGHT
BEGIN:STANDARD
TZOFFSETFROM:+0200
TZOFFSETTO:+0100
TZNAME:CET
DTSTART:20231029T010000
END:STANDARD
BEGIN:DAYLIGHT
TZOFFSETFROM:+0100
TZOFFSETTO:+0200
TZNAME:CEST
DTSTART:20240331T010000
END:DAYLIGHT
BEGIN:STANDARD
TZOFFSETFROM:+0200
TZOFFSETTO:+0100
TZNAME:CET
DTSTART:20241027T010000
END:STANDARD
BEGIN:DAYLIGHT
TZOFFSETFROM:+0100
TZOFFSETTO:+0200
TZNAME:CEST
DTSTART:20250330T010000
END:DAYLIGHT
BEGIN:STANDARD
TZOFFSETFROM:+0200
TZOFFSETTO:+0100
TZNAME:CET
DTSTART:20251026T010000
END:STANDARD
END:VTIMEZONE
BEGIN:VEVENT
DTSTART;TZID=Europe/Zurich:20241009T140000
DTEND;TZID=Europe/Zurich:20241009T160000
DTSTAMP:20260419T211416
CREATED:20240724T154214Z
LAST-MODIFIED:20240725T110319Z
UID:35131-1728482400-1728489600@madeinchimay.be
SUMMARY:Atelier Flocage "Custom tes vêtements"
DESCRIPTION:👕 Ramène ton textile (t-shirt\, sweat\, jeans…) et découvre le flocage ! Personnalise tes vêtements avec des designs uniques. Que tu souhaites ajouter un logo\, un message ou un motif créatif\, rejoins-nous pour une session amusante et pratique. 🎨✨
URL:https://madeinchimay.be/agenda/atelier-flocage-custom-tes-vetements/
LOCATION:Made in Chimay\, Rue d'Angleterre 10\, Chimay\, 6460\, Belgique
CATEGORIES:initiations
ATTACH;FMTTYPE=image/jpeg:https://madeinchimay.be/wp-content/uploads/2024/07/13.jpg
ORGANIZER;CN="Made in Chimay":MAILTO:mic@chimayville.be
END:VEVENT
END:VCALENDAR