BEGIN:VCALENDAR
VERSION:2.0
PRODID:-//Made in Chimay - Tiers-lieu pour créateurs chimacien ! - ECPv6.15.17.1//NONSGML v1.0//EN
CALSCALE:GREGORIAN
METHOD:PUBLISH
X-ORIGINAL-URL:https://madeinchimay.be
X-WR-CALDESC:Évènements pour Made in Chimay - Tiers-lieu pour créateurs chimacien !
REFRESH-INTERVAL;VALUE=DURATION:PT1H
X-Robots-Tag:noindex
X-PUBLISHED-TTL:PT1H
BEGIN:VTIMEZONE
TZID:Europe/Zurich
BEGIN:DAYLIGHT
TZOFFSETFROM:+0100
TZOFFSETTO:+0200
TZNAME:CEST
DTSTART:20230326T010000
END:DAYLIGHT
BEGIN:STANDARD
TZOFFSETFROM:+0200
TZOFFSETTO:+0100
TZNAME:CET
DTSTART:20231029T010000
END:STANDARD
BEGIN:DAYLIGHT
TZOFFSETFROM:+0100
TZOFFSETTO:+0200
TZNAME:CEST
DTSTART:20240331T010000
END:DAYLIGHT
BEGIN:STANDARD
TZOFFSETFROM:+0200
TZOFFSETTO:+0100
TZNAME:CET
DTSTART:20241027T010000
END:STANDARD
BEGIN:DAYLIGHT
TZOFFSETFROM:+0100
TZOFFSETTO:+0200
TZNAME:CEST
DTSTART:20250330T010000
END:DAYLIGHT
BEGIN:STANDARD
TZOFFSETFROM:+0200
TZOFFSETTO:+0100
TZNAME:CET
DTSTART:20251026T010000
END:STANDARD
BEGIN:DAYLIGHT
TZOFFSETFROM:+0100
TZOFFSETTO:+0200
TZNAME:CEST
DTSTART:20260329T010000
END:DAYLIGHT
BEGIN:STANDARD
TZOFFSETFROM:+0200
TZOFFSETTO:+0100
TZNAME:CET
DTSTART:20261025T010000
END:STANDARD
END:VTIMEZONE
BEGIN:VEVENT
DTSTART;TZID=Europe/Zurich:20250219T140000
DTEND;TZID=Europe/Zurich:20250219T160000
DTSTAMP:20260419T160055
CREATED:20241129T110853Z
LAST-MODIFIED:20250403T104324Z
UID:35766-1739973600-1739980800@madeinchimay.be
SUMMARY:Réparation - Impression 3D
DESCRIPTION:⚙️💻 Apprends à reproduire tes pièces cassées pour redonner une seconde vie à tes appareils ! On te donne les bonnes pratiques pour être autonome avec @RepairTogether ! 
URL:https://madeinchimay.be/agenda/reparation-impression-3d/
LOCATION:Made in Chimay\, Rue d'Angleterre 10\, Chimay\, 6460\, Belgique
CATEGORIES:initiations,RepairCafé
ATTACH;FMTTYPE=image/png:https://madeinchimay.be/wp-content/uploads/2024/11/Programme-Janvier-Fevrier-3.png
ORGANIZER;CN="Made in Chimay":MAILTO:mic@chimayville.be
END:VEVENT
BEGIN:VEVENT
DTSTART;TZID=Europe/Zurich:20250213T170000
DTEND;TZID=Europe/Zurich:20250213T190000
DTSTAMP:20260419T160055
CREATED:20250122T085412Z
LAST-MODIFIED:20250122T085412Z
UID:35891-1739466000-1739473200@madeinchimay.be
SUMMARY:Session OpenLab
DESCRIPTION:🛠️ Session libre au Fablab ! Découverte de l’imprimante 3D\, découpe laser\, flocage\, vinyle… ✨ Accompagnement dans vos projets personnels 🤝 Echangez et partagez vos idées avec d’autres passionnés de création ! 🎨
URL:https://madeinchimay.be/agenda/session-openlab-3/
LOCATION:Made in Chimay\, Rue d'Angleterre 10\, Chimay\, 6460\, Belgique
CATEGORIES:initiations
ATTACH;FMTTYPE=image/png:https://madeinchimay.be/wp-content/uploads/2025/01/15.png
ORGANIZER;CN="Made in Chimay":MAILTO:mic@chimayville.be
END:VEVENT
BEGIN:VEVENT
DTSTART;TZID=Europe/Zurich:20250130T170000
DTEND;TZID=Europe/Zurich:20250130T190000
DTSTAMP:20260419T160055
CREATED:20241129T111526Z
LAST-MODIFIED:20241210T124743Z
UID:35774-1738256400-1738263600@madeinchimay.be
SUMMARY:Session OpenLab
DESCRIPTION:🛠️ Session libre au Fablab ! Découverte de l’imprimante 3D\, découpe laser\, flocage\, vinyle… ✨ Accompagnement dans vos projets personnels 🤝 Echangez et partagez vos idées avec d’autres passionnés de création ! 🎨
URL:https://madeinchimay.be/agenda/session-openlab-2/
LOCATION:Made in Chimay\, Rue d'Angleterre 10\, Chimay\, 6460\, Belgique
CATEGORIES:initiations
ATTACH;FMTTYPE=image/png:https://madeinchimay.be/wp-content/uploads/2024/11/12.png
ORGANIZER;CN="Made in Chimay":MAILTO:mic@chimayville.be
END:VEVENT
BEGIN:VEVENT
DTSTART;TZID=Europe/Zurich:20250128T170000
DTEND;TZID=Europe/Zurich:20250128T190000
DTSTAMP:20260419T160055
CREATED:20241129T111150Z
LAST-MODIFIED:20241210T124731Z
UID:35770-1738083600-1738090800@madeinchimay.be
SUMMARY:Fablab - Support flyers personnalisé
DESCRIPTION:📢 Vous voulez que vos flyers sortent du lot ? Participez à un atelier créatif pour apprendre à concevoir des supports originaux et sur-mesure à l’aide de la découpeuse laser ! ✨
URL:https://madeinchimay.be/agenda/fablab-support-flyers-personnalise/
LOCATION:Made in Chimay\, Rue d'Angleterre 10\, Chimay\, 6460\, Belgique
CATEGORIES:initiations
ATTACH;FMTTYPE=image/png:https://madeinchimay.be/wp-content/uploads/2024/11/10.png
ORGANIZER;CN="Made in Chimay":MAILTO:mic@chimayville.be
END:VEVENT
BEGIN:VEVENT
DTSTART;TZID=Europe/Zurich:20250118T093000
DTEND;TZID=Europe/Zurich:20250118T123000
DTSTAMP:20260419T160055
CREATED:20241129T110610Z
LAST-MODIFIED:20241210T124603Z
UID:35762-1737192600-1737203400@madeinchimay.be
SUMMARY:Repair Café
DESCRIPTION:🛠️⚙️ Réparer plutôt que Jeter ! Apprenez à réparez vos objets électriques du quotidien avec l’aide de nos bénévoles : TV\, aspi\, grille-pains\, …
URL:https://madeinchimay.be/agenda/repair-cafe/
LOCATION:Made in Chimay\, Rue d'Angleterre 10\, Chimay\, 6460\, Belgique
CATEGORIES:initiations
ATTACH;FMTTYPE=image/png:https://madeinchimay.be/wp-content/uploads/2024/11/6-2.png
ORGANIZER;CN="Made in Chimay":MAILTO:mic@chimayville.be
END:VEVENT
BEGIN:VEVENT
DTSTART;TZID=Europe/Zurich:20250116T170000
DTEND;TZID=Europe/Zurich:20250116T190000
DTSTAMP:20260419T160055
CREATED:20241129T110225Z
LAST-MODIFIED:20241210T124548Z
UID:35757-1737046800-1737054000@madeinchimay.be
SUMMARY:Session OpenLab
DESCRIPTION:🛠️ Session libre au Fablab ! Découverte de l’imprimante 3D\, découpe laser\, flocage\, vinyle… ✨ Accompagnement dans vos projets personnels 🤝 Echangez et partagez vos idées avec d’autres passionnés de création ! 🎨
URL:https://madeinchimay.be/agenda/session-openlab/
LOCATION:Made in Chimay\, Rue d'Angleterre 10\, Chimay\, 6460\, Belgique
CATEGORIES:initiations
ATTACH;FMTTYPE=image/png:https://madeinchimay.be/wp-content/uploads/2024/11/5-1.png
ORGANIZER;CN="Made in Chimay":MAILTO:mic@chimayville.be
END:VEVENT
BEGIN:VEVENT
DTSTART;TZID=Europe/Zurich:20241212T083000
DTEND;TZID=Europe/Zurich:20241212T103000
DTSTAMP:20260419T160055
CREATED:20241114T132244Z
LAST-MODIFIED:20250403T103009Z
UID:35719-1733992200-1733999400@madeinchimay.be
SUMMARY:Petit Déjeuner BMC avec Charleroi Entreprendre
DESCRIPTION:💼 Venez découvrir le Business Model Canvas (BMC) avec Charleroi Entreprendre : une méthode visuelle et dynamique pour représenter en un coup d’œil le Business Plan de votre entreprise sur une seule page. ✨
URL:https://madeinchimay.be/agenda/petit-dejeuner-bmc-avec-charleroi-entreprendre/
LOCATION:Made in Chimay\, Rue d'Angleterre 10\, Chimay\, 6460\, Belgique
CATEGORIES:initiations
ATTACH;FMTTYPE=image/png:https://madeinchimay.be/wp-content/uploads/2024/11/MIC_BMC.png
ORGANIZER;CN="Charleroi Entreprendre":MAILTO:info@charleroi-entreprendre.be
END:VEVENT
BEGIN:VEVENT
DTSTART;TZID=Europe/Zurich:20241130T093000
DTEND;TZID=Europe/Zurich:20241130T120000
DTSTAMP:20260419T160055
CREATED:20241024T102504Z
LAST-MODIFIED:20241024T103902Z
UID:35683-1732959000-1732968000@madeinchimay.be
SUMMARY:Atelier Déco de Noël
DESCRIPTION:Apprends à utiliser la découpeuse/graveuse laser 🔥 et les imprimantes 3D 🖨️ du Fablab. Personnalise tes décorations 🎨 comme tu le souhaites ! ✨ Que tu souhaites des pièces élégantes\, audacieuses ou originales\, notre atelier t’accompagnera dans la réalisation de tes créations. ✨💎
URL:https://madeinchimay.be/agenda/atelier-deco-de-noel/
LOCATION:Made in Chimay\, Rue d'Angleterre 10\, Chimay\, 6460\, Belgique
CATEGORIES:initiations
ATTACH;FMTTYPE=image/png:https://madeinchimay.be/wp-content/uploads/2024/10/Programme-Novembre.png
ORGANIZER;CN="Made in Chimay":MAILTO:mic@chimayville.be
END:VEVENT
BEGIN:VEVENT
DTSTART;TZID=Europe/Zurich:20241123T100000
DTEND;TZID=Europe/Zurich:20241123T120000
DTSTAMP:20260419T160055
CREATED:20241024T101607Z
LAST-MODIFIED:20241108T133311Z
UID:35675-1732356000-1732363200@madeinchimay.be
SUMMARY:Atelier Découpeuse / Graveuse Laser
DESCRIPTION:💻 Découvre la gravure/découpe laser sur bois et bien d’autres matériaux ! 🛠️✨ Que tu souhaites réaliser des pièces élégantes\, audacieuses ou originales… Notre atelier t’accompagnera dans la réalisation de tes créations ! 💎
URL:https://madeinchimay.be/agenda/atelier-decoupeuse-graveuse-laser/
LOCATION:Made in Chimay\, Rue d'Angleterre 10\, Chimay\, 6460\, Belgique
CATEGORIES:initiations
ATTACH;FMTTYPE=image/png:https://madeinchimay.be/wp-content/uploads/2024/10/Programme-Novembre-2.png
ORGANIZER;CN="Made in Chimay":MAILTO:mic@chimayville.be
END:VEVENT
BEGIN:VEVENT
DTSTART;TZID=Europe/Zurich:20241113T140000
DTEND;TZID=Europe/Zurich:20241113T160000
DTSTAMP:20260419T160055
CREATED:20241024T100506Z
LAST-MODIFIED:20250403T103017Z
UID:35663-1731506400-1731513600@madeinchimay.be
SUMMARY:Atelier Cyanotype
DESCRIPTION:🎨 Participez à un atelier créatif unique autour du Cyanotype ! 🌿 Découvrez ce procédé photographique ancien\, 📸 expérimentez avec la lumière et les formes\, et créez vos propres œuvres d’art ! ✨
URL:https://madeinchimay.be/agenda/atelier-cyanotype/
LOCATION:Made in Chimay\, Rue d'Angleterre 10\, Chimay\, 6460\, Belgique
CATEGORIES:initiations
ATTACH;FMTTYPE=image/png:https://madeinchimay.be/wp-content/uploads/2024/10/4.png
ORGANIZER;CN="Made in Chimay":MAILTO:mic@chimayville.be
END:VEVENT
BEGIN:VEVENT
DTSTART;TZID=Europe/Zurich:20241109T143000
DTEND;TZID=Europe/Zurich:20241109T163000
DTSTAMP:20260419T160055
CREATED:20240724T154025Z
LAST-MODIFIED:20240924T121355Z
UID:35128-1731162600-1731169800@madeinchimay.be
SUMMARY:Fabrication Ukulélé Chimacien
DESCRIPTION:🎵 Participez à la fabrication d’un instrument original avec les outils du Fablab ! Découvrez les techniques de fabrication\, manipulez des outils innovants et vivez une aventure créative ! ✨
URL:https://madeinchimay.be/agenda/fabrication-dun-nerdy-gurdy-chimacien/
LOCATION:Made in Chimay\, Rue d'Angleterre 10\, Chimay\, 6460\, Belgique
CATEGORIES:initiations
ATTACH;FMTTYPE=image/png:https://madeinchimay.be/wp-content/uploads/2024/07/12-1.png
ORGANIZER;CN="Made in Chimay":MAILTO:mic@chimayville.be
END:VEVENT
BEGIN:VEVENT
DTSTART;TZID=Europe/Zurich:20241109T094500
DTEND;TZID=Europe/Zurich:20241109T114500
DTSTAMP:20260419T160055
CREATED:20240724T153806Z
LAST-MODIFIED:20240924T092605Z
UID:35125-1731145500-1731152700@madeinchimay.be
SUMMARY:Atelier Fabrication de bijoux !
DESCRIPTION:💫 Laisse ton imagination te guider : boucles d’oreilles\, pendentifs\, bagues\, bracelets… tout est possible ! Explore les possibilités infinies de l’impression 3D et de la découpe laser pour créer des bijoux uniques et personnalisés. Que tu souhaites des pièces élégantes\, audacieuses ou originales\, notre atelier t’accompagnera dans la réalisation de tes créations. ✨💎
URL:https://madeinchimay.be/agenda/atelier-fabrication-de-bijoux/
LOCATION:Made in Chimay\, Rue d'Angleterre 10\, Chimay\, 6460\, Belgique
CATEGORIES:initiations
ATTACH;FMTTYPE=image/png:https://madeinchimay.be/wp-content/uploads/2024/07/11.png
ORGANIZER;CN="Made in Chimay":MAILTO:mic@chimayville.be
END:VEVENT
BEGIN:VEVENT
DTSTART;TZID=Europe/Zurich:20241026T143000
DTEND;TZID=Europe/Zurich:20241026T163000
DTSTAMP:20260419T160055
CREATED:20240725T080956Z
LAST-MODIFIED:20240924T121438Z
UID:35167-1729953000-1729960200@madeinchimay.be
SUMMARY:Fabrication Ukulélé Chimacien
DESCRIPTION:🎵 Participez à la fabrication d’un instrument original avec les outils du Fablab ! Découvrez les techniques de fabrication\, manipulez des outils innovants et vivez une aventure créative ! ✨
URL:https://madeinchimay.be/agenda/fabrication-nerdy-gurdy-chimacien/
LOCATION:Made in Chimay\, Rue d'Angleterre 10\, Chimay\, 6460\, Belgique
CATEGORIES:initiations
ATTACH;FMTTYPE=image/png:https://madeinchimay.be/wp-content/uploads/2024/07/241026.png
ORGANIZER;CN="Made in Chimay":MAILTO:mic@chimayville.be
END:VEVENT
BEGIN:VEVENT
DTSTART;TZID=Europe/Zurich:20241026T094500
DTEND;TZID=Europe/Zurich:20241026T114500
DTSTAMP:20260419T160055
CREATED:20240725T080745Z
LAST-MODIFIED:20241015T112447Z
UID:35164-1729935900-1729943100@madeinchimay.be
SUMMARY:Fabrication de luminaire en carton
DESCRIPTION:🌟 Bienvenue au Fablab ! 🛠️ Vous souhaitez recycler vos cartons et créer des luminaires design ? Découvrez des techniques innovantes grâce aux outils de notre Fablab ! 💡 Que vous soyez bricoleur\, artiste ou simplement curieux\, nos ateliers vous offrent l’opportunité de transformer des matériaux recyclés en objets uniques et éco-responsables. ♻️
URL:https://madeinchimay.be/agenda/fabrication-de-luminaire-en-carton/
LOCATION:Made in Chimay\, Rue d'Angleterre 10\, Chimay\, 6460\, Belgique
CATEGORIES:initiations
ATTACH;FMTTYPE=image/png:https://madeinchimay.be/wp-content/uploads/2024/07/Programme-Septembre-Octobre-1-2.png
ORGANIZER;CN="Made in Chimay":MAILTO:mic@chimayville.be
END:VEVENT
BEGIN:VEVENT
DTSTART;TZID=Europe/Zurich:20241023T140000
DTEND;TZID=Europe/Zurich:20241023T160000
DTSTAMP:20260419T160055
CREATED:20240725T075911Z
LAST-MODIFIED:20240725T075911Z
UID:35155-1729692000-1729699200@madeinchimay.be
SUMMARY:Fabrication d’un produit chimacien
DESCRIPTION:Participez à la fabrication d’un produit destiné à la boutique #madeinchimay avec les outils du Fablab ! 🛠️🏪 Citoyens\, nous avons besoin de vous : partagez vos idées ! 💡✨ Rejoignez-nous au Fablab pour collaborer à la création d’un produit unique qui reflète l’esprit de Chimay. Venez proposer vos concepts\, utiliser des outils innovants\, échanger avec d’autres membres de la communauté 🌟🤝
URL:https://madeinchimay.be/agenda/fabrication-dun-produit-chimacien-2/
CATEGORIES:initiations
ATTACH;FMTTYPE=image/jpeg:https://madeinchimay.be/wp-content/uploads/2024/07/22.jpg
END:VEVENT
BEGIN:VEVENT
DTSTART;TZID=Europe/Zurich:20241021T080000
DTEND;TZID=Europe/Zurich:20241021T103000
DTSTAMP:20260419T160055
CREATED:20240725T075352Z
LAST-MODIFIED:20250403T103024Z
UID:35149-1729497600-1729506600@madeinchimay.be
SUMMARY:Petit Déjeuner avec Maryse NICOLAS
DESCRIPTION:Faites connaissance avec notre coworkeuse tout en bénéficiant de son expérience en gestion administrative ! 🤝📋 Venez rencontrer une professionnelle passionnée qui partagera avec vous ses précieux conseils et astuces pour optimiser vos processus administratifs dans une ambiance conviviale et collaborative. 🌟
URL:https://madeinchimay.be/agenda/petit-dejeuner-avec-maryse-nicolas/
LOCATION:Made in Chimay\, Rue d'Angleterre 10\, Chimay\, 6460\, Belgique
CATEGORIES:initiations
ATTACH;FMTTYPE=image/jpeg:https://madeinchimay.be/wp-content/uploads/2024/07/20.jpg
ORGANIZER;CN="Made in Chimay":MAILTO:mic@chimayville.be
END:VEVENT
BEGIN:VEVENT
DTSTART;TZID=Europe/Zurich:20241017T170000
DTEND;TZID=Europe/Zurich:20241017T190000
DTSTAMP:20260419T160055
CREATED:20240725T074944Z
LAST-MODIFIED:20240828T125502Z
UID:35143-1729184400-1729191600@madeinchimay.be
SUMMARY:Storytelling avec Charleroi Entreprendre (2/2)
DESCRIPTION:Storytelling avec Charleroi Entreprendre 📖✨\nApprenez à captiver votre audience 🎯\, structurer vos pitchs 🗣️ et rendre vos histoires mémorables 📚 grâce à des techniques et astuces pratiques ! Participez à notre atelier animé par Charleroi Entreprendre pour maîtriser l’art de raconter des histoires percutantes et engageantes.
URL:https://madeinchimay.be/agenda/storytelling-avec-charleroi-entreprendre/
LOCATION:Made in Chimay\, Rue d'Angleterre 10\, Chimay\, 6460\, Belgique
CATEGORIES:initiations
ATTACH;FMTTYPE=image/png:https://madeinchimay.be/wp-content/uploads/2024/07/Programme-Septembre-Octobre-1.png
ORGANIZER;CN="Made in Chimay":MAILTO:mic@chimayville.be
END:VEVENT
BEGIN:VEVENT
DTSTART;TZID=Europe/Zurich:20241016T140000
DTEND;TZID=Europe/Zurich:20241016T160000
DTSTAMP:20260419T160055
CREATED:20240725T074729Z
LAST-MODIFIED:20240725T110811Z
UID:35140-1729087200-1729094400@madeinchimay.be
SUMMARY:Fabrication d’un produit chimacien
DESCRIPTION:Fabrication d’un produit chimacien 🛠️ au Fablab\nCitoyens\, nous avons besoin de vous : partagez vos idées ! 💡 Rejoignez-nous au Fablab pour collaborer à la création d’un produit unique qui reflète l’esprit de Chimay. Venez proposer vos concepts\, utiliser des outils innovants et échanger avec d’autres membres de la communauté !
URL:https://madeinchimay.be/agenda/fabrication-dun-produit-chimacien/
LOCATION:Made in Chimay\, Rue d'Angleterre 10\, Chimay\, 6460\, Belgique
CATEGORIES:initiations
ATTACH;FMTTYPE=image/jpeg:https://madeinchimay.be/wp-content/uploads/2024/07/17.jpg
ORGANIZER;CN="Made in Chimay":MAILTO:mic@chimayville.be
END:VEVENT
BEGIN:VEVENT
DTSTART;TZID=Europe/Zurich:20241010T170000
DTEND;TZID=Europe/Zurich:20241010T190000
DTSTAMP:20260419T160055
CREATED:20240724T154509Z
LAST-MODIFIED:20240828T125512Z
UID:35134-1728579600-1728586800@madeinchimay.be
SUMMARY:Le storytelling avec Charleroi Entreprendre (1/2)
DESCRIPTION:📚 Storytelling : apprenez à captiver votre audience\, structurer vos pitchs et rendre vos histoires mémorables grâce à des techniques et astuces pratiques ! Participez à notre atelier pour maîtriser l’art de raconter des histoires percutantes et engageantes. 🌟✨ \nCet atelier se déroulera en 2 parties\, avec une participation nécessaire aux 2 dates\, les 10 et 17 octobre.\nLien vers le second atelier.
URL:https://madeinchimay.be/agenda/le-storytelling-avec-ce/
LOCATION:Made in Chimay\, Rue d'Angleterre 10\, Chimay\, 6460\, Belgique
CATEGORIES:initiations
ATTACH;FMTTYPE=image/png:https://madeinchimay.be/wp-content/uploads/2024/07/Programme-Septembre-Octobre.png
ORGANIZER;CN="Made in Chimay":MAILTO:mic@chimayville.be
END:VEVENT
BEGIN:VEVENT
DTSTART;TZID=Europe/Zurich:20241009T140000
DTEND;TZID=Europe/Zurich:20241009T160000
DTSTAMP:20260419T160055
CREATED:20240724T154214Z
LAST-MODIFIED:20240725T110319Z
UID:35131-1728482400-1728489600@madeinchimay.be
SUMMARY:Atelier Flocage "Custom tes vêtements"
DESCRIPTION:👕 Ramène ton textile (t-shirt\, sweat\, jeans…) et découvre le flocage ! Personnalise tes vêtements avec des designs uniques. Que tu souhaites ajouter un logo\, un message ou un motif créatif\, rejoins-nous pour une session amusante et pratique. 🎨✨
URL:https://madeinchimay.be/agenda/atelier-flocage-custom-tes-vetements/
LOCATION:Made in Chimay\, Rue d'Angleterre 10\, Chimay\, 6460\, Belgique
CATEGORIES:initiations
ATTACH;FMTTYPE=image/jpeg:https://madeinchimay.be/wp-content/uploads/2024/07/13.jpg
ORGANIZER;CN="Made in Chimay":MAILTO:mic@chimayville.be
END:VEVENT
BEGIN:VEVENT
DTSTART;TZID=Europe/Zurich:20240911T140000
DTEND;TZID=Europe/Zurich:20240911T160000
DTSTAMP:20260419T160055
CREATED:20240724T151413Z
LAST-MODIFIED:20240725T094624Z
UID:35101-1726063200-1726070400@madeinchimay.be
SUMMARY:Atelier découpeuse vinyle
DESCRIPTION:📦 Créez vos stickers personnalisés avec notre nouvelle découpeuse vinyle @Roland et donnez un coup de neuf à votre véhicule pour une communication percutante dès la rentrée ! 🚗\nRéalisez des designs précis et durables\, parfaits pour afficher votre message ou votre logo pour promouvoir votre entreprise ! ✨
URL:https://madeinchimay.be/agenda/atelier-decoupeuse-vinyle/
LOCATION:Made in Chimay\, Rue d'Angleterre 10\, Chimay\, 6460\, Belgique
CATEGORIES:initiations
ATTACH;FMTTYPE=image/jpeg:https://madeinchimay.be/wp-content/uploads/2024/07/3.jpg
ORGANIZER;CN="Made in Chimay":MAILTO:mic@chimayville.be
END:VEVENT
BEGIN:VEVENT
DTSTART;TZID=Europe/Zurich:20240704T170000
DTEND;TZID=Europe/Zurich:20240704T190000
DTSTAMP:20260419T160055
CREATED:20240523T085843Z
LAST-MODIFIED:20240607T073956Z
UID:34966-1720112400-1720119600@madeinchimay.be
SUMMARY:Atelier Impression 3D - Workshop - Fusion 360
DESCRIPTION:👨‍🔧 Vous souhaitez aller plus loin en Impression 3D ? Venez à notre workshop ! \n \n✅ Découvrez les bases de l’impression 3D : que ce soit pour prototyper ou réparer vos objets.\n✅ Explorez Fusion 360 pour aller plus loin en conception ! \n👥 Quelque soit votre niveau\, que vous soyez étudiants\, entrepreneurs\, artistes\, artisans\, producteurs ou membre d’une association\, ces ateliers #madeinchimay sont faits pour vous ! \n 
URL:https://madeinchimay.be/agenda/impression-3d-workshop/
LOCATION:Made in Chimay\, Rue d'Angleterre 10\, Chimay\, 6460\, Belgique
CATEGORIES:initiations
ATTACH;FMTTYPE=image/png:https://madeinchimay.be/wp-content/uploads/2024/05/Atelier-3D-Fusion-360-3.png
ORGANIZER;CN="Made in Chimay":MAILTO:mic@chimayville.be
END:VEVENT
BEGIN:VEVENT
DTSTART;TZID=Europe/Zurich:20240627T170000
DTEND;TZID=Europe/Zurich:20240627T190000
DTSTAMP:20260419T160055
CREATED:20240528T080244Z
LAST-MODIFIED:20240604T135756Z
UID:34978-1719507600-1719514800@madeinchimay.be
SUMMARY:Atelier Packaging avec le Fab-C
DESCRIPTION:Venez découvrir les possibilités de la fabrication numérique ! Le prototypage\, les machines utilisables… Découvrez comment valoriser vos produits !\n\nPrésentation du FabLab et de l’offre d’accompagnement\nPrototyper des packaging : pourquoi / comment\nExemples de prototypes de packaging « Made in FabC » et présentation des machines utilisées\nEco-conception et packaging\nQ&A et recueil des besoins des participants
URL:https://madeinchimay.be/agenda/atelier-packaging-avec-le-fab-c/
LOCATION:Made in Chimay\, Rue d'Angleterre 10\, Chimay\, 6460\, Belgique
CATEGORIES:initiations
ATTACH;FMTTYPE=image/png:https://madeinchimay.be/wp-content/uploads/2024/05/Event-Packaging-1.png
ORGANIZER;CN="Made in Chimay":MAILTO:mic@chimayville.be
END:VEVENT
BEGIN:VEVENT
DTSTART;TZID=Europe/Zurich:20240530T170000
DTEND;TZID=Europe/Zurich:20240530T190000
DTSTAMP:20260419T160055
CREATED:20240429T095838Z
LAST-MODIFIED:20240502T093821Z
UID:34916-1717088400-1717095600@madeinchimay.be
SUMMARY:Atelier Impression 3D - Réparation d'objets
DESCRIPTION:✅ Apprenez à utiliser les logiciels Tinkercad (3D) et Inkscape (2D) pour réparer vos objets du quotidien et bien plus ! \n👨‍🔧 Découvrez l’usage de l’imprimante 3D et ses fonctionnalités variées ! \n👥 Que vous soyez étudiants\, entrepreneurs\, artistes\, artisans\, producteurs ou membre d’une association\, ces ateliers sont faits pour vous !
URL:https://madeinchimay.be/agenda/atelier-impression-3d/
LOCATION:Made in Chimay\, Rue d'Angleterre 10\, Chimay\, 6460\, Belgique
CATEGORIES:initiations
ATTACH;FMTTYPE=image/png:https://madeinchimay.be/wp-content/uploads/2024/04/3D-Reparation-20-mai-1.png
ORGANIZER;CN="Made in Chimay":MAILTO:mic@chimayville.be
END:VEVENT
BEGIN:VEVENT
DTSTART;TZID=Europe/Zurich:20240516T170000
DTEND;TZID=Europe/Zurich:20240516T190000
DTSTAMP:20260419T160055
CREATED:20240417T100937Z
LAST-MODIFIED:20240417T135549Z
UID:34882-1715878800-1715886000@madeinchimay.be
SUMMARY:Atelier IA & ChatGPT
DESCRIPTION:Le principal objectif est de fournir aux entrepreneur.s.se.s \, créateurs.rice.s\, indépendant.e.s des connaissances fondamentales sur l’intelligence artificielle générative et son application pratique via des outils tels que ChatGPT. \nContenu détaillé : \n\nIntroduction à l’IA générative : Présentation des concepts clés de l’IA et exploration de son potentiel dans le monde du travail.\nUtilisation de ChatGPT : Introduction et explications sur le fonctionnement de ChatGPT\, avec un usecase d’une entreprise factice où l’on créera sa marque\, son produit et le contenu de ses posts pour la communication.\nCréation de contenu : Techniques pour utiliser l’IA dans la création de contenu de qualité\, destiné à différents canaux de communication.\nMéthodologie et pratique : Sessions pratiques où les participants appliqueront les concepts appris pour formuler des solutions spécifiques à leurs besoins.\nConclusion & questions : Réponse aux différentes questions\, point sur l’éthique\, les études en matière de performance et la vision d’un outil plutôt que d’un remplacement.\n\nCet atelier est conçu pour permettre aux participants de comprendre et d’utiliser efficacement l’IA dans leurs activités quotidiennes\, leur offrant ainsi un avantage compétitif dans leur domaine. \nAfin de tirer parti de l’atelier\, veuillez créer votre compte sur https://chat.openai.com
URL:https://madeinchimay.be/agenda/atelier-ia-chatgpt/
LOCATION:Made in Chimay\, Rue d'Angleterre 10\, Chimay\, 6460\, Belgique
CATEGORIES:initiations
ATTACH;FMTTYPE=image/png:https://madeinchimay.be/wp-content/uploads/2024/04/Atelier-IA.png
ORGANIZER;CN="Made in Chimay":MAILTO:mic@chimayville.be
END:VEVENT
END:VCALENDAR