BEGIN:VCALENDAR
VERSION:2.0
PRODID:-//Made in Chimay - Tiers-lieu pour créateurs chimacien ! - ECPv6.15.17.1//NONSGML v1.0//EN
CALSCALE:GREGORIAN
METHOD:PUBLISH
X-WR-CALNAME:Made in Chimay - Tiers-lieu pour créateurs chimacien !
X-ORIGINAL-URL:https://madeinchimay.be
X-WR-CALDESC:Évènements pour Made in Chimay - Tiers-lieu pour créateurs chimacien !
REFRESH-INTERVAL;VALUE=DURATION:PT1H
X-Robots-Tag:noindex
X-PUBLISHED-TTL:PT1H
BEGIN:VTIMEZONE
TZID:Europe/Zurich
BEGIN:DAYLIGHT
TZOFFSETFROM:+0100
TZOFFSETTO:+0200
TZNAME:CEST
DTSTART:20230326T010000
END:DAYLIGHT
BEGIN:STANDARD
TZOFFSETFROM:+0200
TZOFFSETTO:+0100
TZNAME:CET
DTSTART:20231029T010000
END:STANDARD
BEGIN:DAYLIGHT
TZOFFSETFROM:+0100
TZOFFSETTO:+0200
TZNAME:CEST
DTSTART:20240331T010000
END:DAYLIGHT
BEGIN:STANDARD
TZOFFSETFROM:+0200
TZOFFSETTO:+0100
TZNAME:CET
DTSTART:20241027T010000
END:STANDARD
BEGIN:DAYLIGHT
TZOFFSETFROM:+0100
TZOFFSETTO:+0200
TZNAME:CEST
DTSTART:20250330T010000
END:DAYLIGHT
BEGIN:STANDARD
TZOFFSETFROM:+0200
TZOFFSETTO:+0100
TZNAME:CET
DTSTART:20251026T010000
END:STANDARD
END:VTIMEZONE
BEGIN:VEVENT
DTSTART;TZID=Europe/Zurich:20240301T090000
DTEND;TZID=Europe/Zurich:20240301T120000
DTSTAMP:20260420T223850
CREATED:20240313T104940Z
LAST-MODIFIED:20240313T104940Z
UID:34642-1709283600-1709294400@madeinchimay.be
SUMMARY:WordPress / Divi - Jour 3
DESCRIPTION:✅ 2024 est là… et si vous lanciez enfin ce site web dont vous avez toujours rêvé ? 💻\n📆 De février à avril\, nous proposons 6 ateliers de création de site web #wordpress afin de faire connaître votre activité #madeinchimay\n👥 Que vous soyez étudiants\, entrepreneurs\, artistes\, artisans\, producteurs ou membre d’une association\, ces ateliers sont fait pour vous ! \nCette formation est complète mais n’hésitez pas à nous contacter à info@madeinchimay.be si vous êtes intéressé.e par de prochaines dates.
URL:https://madeinchimay.be/agenda/wordpress-divi-jour-3/
LOCATION:Made in Chimay\, Rue d'Angleterre 10\, Chimay\, 6460\, Belgique
CATEGORIES:Formations
ATTACH;FMTTYPE=image/png:https://madeinchimay.be/wp-content/uploads/2024/03/Atelier-Webdesign.png
ORGANIZER;CN="Made in Chimay":MAILTO:mic@chimayville.be
END:VEVENT
BEGIN:VEVENT
DTSTART;TZID=Europe/Zurich:20240315T090000
DTEND;TZID=Europe/Zurich:20240315T120000
DTSTAMP:20260420T223850
CREATED:20240313T105014Z
LAST-MODIFIED:20240313T105014Z
UID:34643-1710493200-1710504000@madeinchimay.be
SUMMARY:WordPress / Divi - Jour 4
DESCRIPTION:✅ 2024 est là… et si vous lanciez enfin ce site web dont vous avez toujours rêvé ? 💻\n📆 De février à avril\, nous proposons 6 ateliers de création de site web #wordpress afin de faire connaître votre activité #madeinchimay\n👥 Que vous soyez étudiants\, entrepreneurs\, artistes\, artisans\, producteurs ou membre d’une association\, ces ateliers sont fait pour vous ! \nCette formation est complète mais n’hésitez pas à nous contacter à info@madeinchimay.be si vous êtes intéressé.e par de prochaines dates.
URL:https://madeinchimay.be/agenda/wordpress-divi-jour-4/
LOCATION:Made in Chimay\, Rue d'Angleterre 10\, Chimay\, 6460\, Belgique
CATEGORIES:Formations
ATTACH;FMTTYPE=image/png:https://madeinchimay.be/wp-content/uploads/2024/03/Atelier-Webdesign.png
ORGANIZER;CN="Made in Chimay":MAILTO:mic@chimayville.be
END:VEVENT
BEGIN:VEVENT
DTSTART;TZID=Europe/Zurich:20240321T163000
DTEND;TZID=Europe/Zurich:20240321T183000
DTSTAMP:20260420T223850
CREATED:20240313T092327Z
LAST-MODIFIED:20250403T103441Z
UID:34609-1711038600-1711045800@madeinchimay.be
SUMMARY:Afterwork de mars
DESCRIPTION:Découvrez le projet de Tiers-lieu “Made in Chimay” en participant à notre afterwork mensuel\, tous les 3èmes jeudis du mois ! \nRejoignez-nous chaque 3ème jeudi du mois afin de découvrir nos espaces et rencontrer leurs utilisateurs\, qu’ils soient coworkers\, artisans\, créateurs\, partenaires ou citoyens intéressés par la co-création sous toutes ses formes. \nUn moment convivial entre “chimay’kers” pour stimuler les rencontres et les échanges ! \nEntrée via la Rue d’Angleterre n°10 ou la Boutique Made in Chimay.\nNous vous accueillons dès 16h30 ! \nAu plaisir de vous rencontrer autour d’un galopin dans ce nouvel espace créatif situé au coeur de ville où rencontrer les “makers” chimaciens de tout horizon ! \nAfin de vous accueillir comme il se doit (et prévoir de quoi vous sustenter)\,\nn’hésitez pas à vous inscrire en remplissant le formulaire ci-dessous !
URL:https://madeinchimay.be/agenda/afterwork-de-mars/
LOCATION:Made in Chimay\, Rue d'Angleterre 10\, Chimay\, 6460\, Belgique
CATEGORIES:Convivialité
ATTACH;FMTTYPE=image/png:https://madeinchimay.be/wp-content/uploads/2024/03/AfterWork-generic-1.png
ORGANIZER;CN="Made in Chimay":MAILTO:mic@chimayville.be
END:VEVENT
BEGIN:VEVENT
DTSTART;TZID=Europe/Zurich:20240326T120000
DTEND;TZID=Europe/Zurich:20240326T180000
DTSTAMP:20260420T223850
CREATED:20240315T105129Z
LAST-MODIFIED:20250403T103512Z
UID:34756-1711454400-1711476000@madeinchimay.be
SUMMARY:Shooting photo studio
DESCRIPTION:Faites vous tirer le portrait dans notre studio multimédia parfaitement équipé de fonds et lumières pour un rendu pro.\nObtenez votre portrait au format digital grâce à un shooting au sein de notre studio parfaitement équipé pour un résultat des plus professionnel. \nMerci de nous préciser l’horaire souhaité par mail à info@madeinchimay.be
URL:https://madeinchimay.be/agenda/shooting-photo-studio/
LOCATION:Made in Chimay\, Rue d'Angleterre 10\, Chimay\, 6460\, Belgique
CATEGORIES:Formations
ATTACH;FMTTYPE=image/png:https://madeinchimay.be/wp-content/uploads/2024/03/Shooting-Studio.png
ORGANIZER;CN="Made in Chimay":MAILTO:mic@chimayville.be
END:VEVENT
BEGIN:VEVENT
DTSTART;TZID=Europe/Zurich:20240329T090000
DTEND;TZID=Europe/Zurich:20240329T120000
DTSTAMP:20260420T223850
CREATED:20240313T105049Z
LAST-MODIFIED:20240313T105049Z
UID:34644-1711702800-1711713600@madeinchimay.be
SUMMARY:WordPress / Divi - Jour 5
DESCRIPTION:✅ 2024 est là… et si vous lanciez enfin ce site web dont vous avez toujours rêvé ? 💻\n📆 De février à avril\, nous proposons 6 ateliers de création de site web #wordpress afin de faire connaître votre activité #madeinchimay\n👥 Que vous soyez étudiants\, entrepreneurs\, artistes\, artisans\, producteurs ou membre d’une association\, ces ateliers sont fait pour vous ! \nCette formation est complète mais n’hésitez pas à nous contacter à info@madeinchimay.be si vous êtes intéressé.e par de prochaines dates.
URL:https://madeinchimay.be/agenda/wordpress-divi-jour-5/
LOCATION:Made in Chimay\, Rue d'Angleterre 10\, Chimay\, 6460\, Belgique
CATEGORIES:Formations
ATTACH;FMTTYPE=image/png:https://madeinchimay.be/wp-content/uploads/2024/03/Atelier-Webdesign.png
ORGANIZER;CN="Made in Chimay":MAILTO:mic@chimayville.be
END:VEVENT
END:VCALENDAR