BEGIN:VCALENDAR
VERSION:2.0
PRODID:-//Made in Chimay - Tiers-lieu pour créateurs chimacien ! - ECPv6.15.17.1//NONSGML v1.0//EN
CALSCALE:GREGORIAN
METHOD:PUBLISH
X-WR-CALNAME:Made in Chimay - Tiers-lieu pour créateurs chimacien !
X-ORIGINAL-URL:https://madeinchimay.be
X-WR-CALDESC:Évènements pour Made in Chimay - Tiers-lieu pour créateurs chimacien !
REFRESH-INTERVAL;VALUE=DURATION:PT1H
X-Robots-Tag:noindex
X-PUBLISHED-TTL:PT1H
BEGIN:VTIMEZONE
TZID:Europe/Zurich
BEGIN:DAYLIGHT
TZOFFSETFROM:+0100
TZOFFSETTO:+0200
TZNAME:CEST
DTSTART:20230326T010000
END:DAYLIGHT
BEGIN:STANDARD
TZOFFSETFROM:+0200
TZOFFSETTO:+0100
TZNAME:CET
DTSTART:20231029T010000
END:STANDARD
BEGIN:DAYLIGHT
TZOFFSETFROM:+0100
TZOFFSETTO:+0200
TZNAME:CEST
DTSTART:20240331T010000
END:DAYLIGHT
BEGIN:STANDARD
TZOFFSETFROM:+0200
TZOFFSETTO:+0100
TZNAME:CET
DTSTART:20241027T010000
END:STANDARD
BEGIN:DAYLIGHT
TZOFFSETFROM:+0100
TZOFFSETTO:+0200
TZNAME:CEST
DTSTART:20250330T010000
END:DAYLIGHT
BEGIN:STANDARD
TZOFFSETFROM:+0200
TZOFFSETTO:+0100
TZNAME:CET
DTSTART:20251026T010000
END:STANDARD
END:VTIMEZONE
BEGIN:VEVENT
DTSTART;TZID=Europe/Zurich:20240905T170000
DTEND;TZID=Europe/Zurich:20240905T190000
DTSTAMP:20260420T115326
CREATED:20240724T150142Z
LAST-MODIFIED:20250403T103357Z
UID:35093-1725555600-1725562800@madeinchimay.be
SUMMARY:AfterWork avec l'Escaillonne
DESCRIPTION:🍻 Vous êtes conviés à une expérience gustative unique au sein de nos espaces en compagnie d’une brasserie locale. 🍺\nDans une ambiance chaleureuse et conviviale\, venez échanger avec d’autres amateurs et laissez-vous emporter par la passion de la bière artisanale. 🤝 Réservez votre place dès maintenant et partagez ce moment inoubliable avec nous !
URL:https://madeinchimay.be/agenda/afterwork-avec-lescaillonne/
LOCATION:Made in Chimay\, Rue d'Angleterre 10\, Chimay\, 6460\, Belgique
CATEGORIES:Convivialité
ATTACH;FMTTYPE=image/jpeg:https://madeinchimay.be/wp-content/uploads/2024/07/1.jpg
ORGANIZER;CN="Made in Chimay":MAILTO:mic@chimayville.be
END:VEVENT
BEGIN:VEVENT
DTSTART;TZID=Europe/Zurich:20240909T080000
DTEND;TZID=Europe/Zurich:20240909T103000
DTSTAMP:20260420T115326
CREATED:20240724T150935Z
LAST-MODIFIED:20250403T102921Z
UID:35098-1725868800-1725877800@madeinchimay.be
SUMMARY:Petit-déjeuner de rentrée !
DESCRIPTION:💼 À l’occasion de la semaine du coworking\, plongez dans l’univers de nos espaces de travail et de créativité 🌟 et rencontrez nos coworkers passionnés\, prêts à partager avec vous les raisons qui les ont poussés à rejoindre notre communauté dynamique et inspirante. 🤝✨
URL:https://madeinchimay.be/agenda/petit-dejeuner-de-rentree/
LOCATION:Made in Chimay\, Rue d'Angleterre 10\, Chimay\, 6460\, Belgique
CATEGORIES:Convivialité
ATTACH;FMTTYPE=image/jpeg:https://madeinchimay.be/wp-content/uploads/2024/07/2.jpg
ORGANIZER;CN="Made in Chimay":MAILTO:mic@chimayville.be
END:VEVENT
BEGIN:VEVENT
DTSTART;TZID=Europe/Zurich:20240910T173000
DTEND;TZID=Europe/Zurich:20240910T203000
DTSTAMP:20260420T115326
CREATED:20240829T142739Z
LAST-MODIFIED:20250403T103132Z
UID:35401-1725989400-1726000200@madeinchimay.be
SUMMARY:Atelier Ableton - OpenSession avec Jean Vanesse
DESCRIPTION:Faites connaissance avec notre atelier de production musicale avec Ableton 🎧🎶\, rencontrez nos créateurs et découvrez le parcours inspirant de Jean Vanesse\, un professionnel de la région ! 🌟🎛️ Plongez dans l’univers de la création sonore\, apprenez des techniques de production avancées et échangez avec des passionnés de musique. Venez découvrir comment Jean Vanesse a transformé sa passion en une carrière florissante et laissez-vous inspirer par son expérience. Que vous soyez musicien\, producteur en herbe ou simplement curieux\, cet atelier est une occasion unique d’explorer le monde de la production musicale et de rencontrer des talents locaux ! 🎹🔥
URL:https://madeinchimay.be/agenda/atelier-ableton-opensession-avec-jean-vanesse/
LOCATION:Made in Chimay\, Rue d'Angleterre 10\, Chimay\, 6460\, Belgique
CATEGORIES:Formations
ATTACH;FMTTYPE=image/png:https://madeinchimay.be/wp-content/uploads/2024/08/Video-Programme-Septembre.png
ORGANIZER;CN="Made in Chimay":MAILTO:mic@chimayville.be
END:VEVENT
BEGIN:VEVENT
DTSTART;TZID=Europe/Zurich:20240911T140000
DTEND;TZID=Europe/Zurich:20240911T160000
DTSTAMP:20260420T115326
CREATED:20240724T151413Z
LAST-MODIFIED:20240725T094624Z
UID:35101-1726063200-1726070400@madeinchimay.be
SUMMARY:Atelier découpeuse vinyle
DESCRIPTION:📦 Créez vos stickers personnalisés avec notre nouvelle découpeuse vinyle @Roland et donnez un coup de neuf à votre véhicule pour une communication percutante dès la rentrée ! 🚗\nRéalisez des designs précis et durables\, parfaits pour afficher votre message ou votre logo pour promouvoir votre entreprise ! ✨
URL:https://madeinchimay.be/agenda/atelier-decoupeuse-vinyle/
LOCATION:Made in Chimay\, Rue d'Angleterre 10\, Chimay\, 6460\, Belgique
CATEGORIES:initiations
ATTACH;FMTTYPE=image/jpeg:https://madeinchimay.be/wp-content/uploads/2024/07/3.jpg
ORGANIZER;CN="Made in Chimay":MAILTO:mic@chimayville.be
END:VEVENT
BEGIN:VEVENT
DTSTART;TZID=Europe/Zurich:20240912T120000
DTEND;TZID=Europe/Zurich:20240912T140000
DTSTAMP:20260420T115326
CREATED:20240724T151735Z
LAST-MODIFIED:20250403T102808Z
UID:35104-1726142400-1726149600@madeinchimay.be
SUMMARY:Jeudi frites (de rentrée)
DESCRIPTION:🍟 Faites connaissance avec nos coworkers autour d’une bonne frite préparée par nos soins ! 🤝 Venez visiter nos espaces et découvrez nos nombreuses activités. Partagez un moment convivial\, échangez avec des professionnels passionnés\, et laissez-vous inspirer par notre communauté dynamique et créative. 🌟✨
URL:https://madeinchimay.be/agenda/jeudi-frites-de-rentree/
LOCATION:Made in Chimay\, Rue d'Angleterre 10\, Chimay\, 6460\, Belgique
ATTACH;FMTTYPE=image/jpeg:https://madeinchimay.be/wp-content/uploads/2024/07/4.jpg
ORGANIZER;CN="Made in Chimay":MAILTO:mic@chimayville.be
END:VEVENT
BEGIN:VEVENT
DTSTART;TZID=Europe/Zurich:20240913T090000
DTEND;TZID=Europe/Zurich:20240913T120000
DTSTAMP:20260420T115326
CREATED:20240724T152118Z
LAST-MODIFIED:20241003T130234Z
UID:35107-1726218000-1726228800@madeinchimay.be
SUMMARY:Repair Wordpress
DESCRIPTION:🚀 Améliorez votre site web WordPress et présentez votre activité\, structure ou passion Made in Chimay ! Profitez de nos conseils d’experts pour optimiser votre présence en ligne et attirer plus de visiteurs. Que vous soyez entrepreneur\, artiste ou passionné\, nous vous aidons à créer un site web qui reflète fidèlement votre vision. 🌟💻✨
URL:https://madeinchimay.be/agenda/atelier-repair-wordpress/
LOCATION:Made in Chimay\, Rue d'Angleterre 10\, Chimay\, 6460\, Belgique
CATEGORIES:Formations
ATTACH;FMTTYPE=image/jpeg:https://madeinchimay.be/wp-content/uploads/2024/07/5.jpg
ORGANIZER;CN="Made in Chimay":MAILTO:mic@chimayville.be
END:VEVENT
BEGIN:VEVENT
DTSTART;TZID=Europe/Zurich:20240919T170000
DTEND;TZID=Europe/Zurich:20240919T190000
DTSTAMP:20260420T115326
CREATED:20240724T152445Z
LAST-MODIFIED:20240912T145746Z
UID:35110-1726765200-1726772400@madeinchimay.be
SUMMARY:Vernissage Expo Photos
DESCRIPTION:📸 Découvrez le travail d’un collectif de 4 photographes qui prendront possession de nos espaces durant 2 mois ! \nVenez explorer une exposition unique où chaque photographe raconte une histoire. Rencontrez les artistes et échangez sur leur démarche créative ! 🌟✨
URL:https://madeinchimay.be/agenda/vernissage-expo-photos/
LOCATION:Made in Chimay\, Rue d'Angleterre 10\, Chimay\, 6460\, Belgique
CATEGORIES:Exposition
ATTACH;FMTTYPE=image/png:https://madeinchimay.be/wp-content/uploads/2024/07/Programme-Septembre-Octobre-2.png
ORGANIZER;CN="Made in Chimay":MAILTO:mic@chimayville.be
END:VEVENT
BEGIN:VEVENT
DTSTART;TZID=Europe/Zurich:20240920T090000
DTEND;TZID=Europe/Zurich:20240920T120000
DTSTAMP:20260420T115326
CREATED:20240724T152727Z
LAST-MODIFIED:20241003T130221Z
UID:35113-1726822800-1726833600@madeinchimay.be
SUMMARY:Repair ta Com !
DESCRIPTION:📢 Participez à notre atelier pour améliorer votre communication et mettre en valeur votre activité\, structure ou passion Made in Chimay ! \nApprenez à perfectionner vos techniques de présentation et à créer des messages percutants. Que vous soyez entrepreneur\, artiste ou passionné\, cet atelier vous fournira les outils nécessaires pour exprimer efficacement votre vision.  🌟✨
URL:https://madeinchimay.be/agenda/atelier-repair-wordpress-2/
LOCATION:Made in Chimay\, Rue d'Angleterre 10\, Chimay\, 6460\, Belgique
CATEGORIES:Formations
ATTACH;FMTTYPE=image/png:https://madeinchimay.be/wp-content/uploads/2024/07/Programme-Septembre-Octobre-2-1.png
ORGANIZER;CN="Made in Chimay":MAILTO:mic@chimayville.be
END:VEVENT
BEGIN:VEVENT
DTSTART;TZID=Europe/Zurich:20240921T094500
DTEND;TZID=Europe/Zurich:20240921T234500
DTSTAMP:20260420T115326
CREATED:20240724T153010Z
LAST-MODIFIED:20250403T104308Z
UID:35116-1726911900-1726962300@madeinchimay.be
SUMMARY:Repair Café avec @Bobines
DESCRIPTION:🛠️ Réparez vos objets électriques et textiles avec l’association @Bobines Chimay ! Donnez une seconde vie à vos appareils et vêtements\, apprenez des astuces pratiques et participez à cet atelier convivial. Contribuez à un mode de vie plus durable en réduisant les déchets. ♻️✨
URL:https://madeinchimay.be/agenda/repaircafe-avec-bobines/
LOCATION:Made in Chimay\, Rue d'Angleterre 10\, Chimay\, 6460\, Belgique
CATEGORIES:RepairCafé
ATTACH;FMTTYPE=image/jpeg:https://madeinchimay.be/wp-content/uploads/2024/07/8.jpg
ORGANIZER;CN="Made in Chimay":MAILTO:mic@chimayville.be
END:VEVENT
BEGIN:VEVENT
DTSTART;TZID=Europe/Zurich:20240924T120000
DTEND;TZID=Europe/Zurich:20240924T133000
DTSTAMP:20260420T115326
CREATED:20240724T153254Z
LAST-MODIFIED:20250403T102936Z
UID:35119-1727179200-1727184600@madeinchimay.be
SUMMARY:Tiers-Lunch Ayurveda
DESCRIPTION:🍽️ Rendez-vous pour un lunch healthy but tasty avec notre coworkeuse Anémone\, qui vous fera découvrir la cuisine ayurvédique ! Profitez d’un repas savoureux et équilibré tout en apprenant les bienfaits de cette approche millénaire. Rejoignez-nous pour un moment de partage et de convivialité. 🌿✨
URL:https://madeinchimay.be/agenda/tiers-lunch-ayurveda/
LOCATION:Made in Chimay\, Rue d'Angleterre 10\, Chimay\, 6460\, Belgique
CATEGORIES:Convivialité
ATTACH;FMTTYPE=image/jpeg:https://madeinchimay.be/wp-content/uploads/2024/07/9.jpg
ORGANIZER;CN="Made in Chimay":MAILTO:mic@chimayville.be
END:VEVENT
END:VCALENDAR