BEGIN:VCALENDAR
VERSION:2.0
PRODID:-//Made in Chimay - Tiers-lieu pour créateurs chimacien ! - ECPv6.15.17.1//NONSGML v1.0//EN
CALSCALE:GREGORIAN
METHOD:PUBLISH
X-WR-CALNAME:Made in Chimay - Tiers-lieu pour créateurs chimacien !
X-ORIGINAL-URL:https://madeinchimay.be
X-WR-CALDESC:Évènements pour Made in Chimay - Tiers-lieu pour créateurs chimacien !
REFRESH-INTERVAL;VALUE=DURATION:PT1H
X-Robots-Tag:noindex
X-PUBLISHED-TTL:PT1H
BEGIN:VTIMEZONE
TZID:Europe/Zurich
BEGIN:DAYLIGHT
TZOFFSETFROM:+0100
TZOFFSETTO:+0200
TZNAME:CEST
DTSTART:20240331T010000
END:DAYLIGHT
BEGIN:STANDARD
TZOFFSETFROM:+0200
TZOFFSETTO:+0100
TZNAME:CET
DTSTART:20241027T010000
END:STANDARD
BEGIN:DAYLIGHT
TZOFFSETFROM:+0100
TZOFFSETTO:+0200
TZNAME:CEST
DTSTART:20250330T010000
END:DAYLIGHT
BEGIN:STANDARD
TZOFFSETFROM:+0200
TZOFFSETTO:+0100
TZNAME:CET
DTSTART:20251026T010000
END:STANDARD
BEGIN:DAYLIGHT
TZOFFSETFROM:+0100
TZOFFSETTO:+0200
TZNAME:CEST
DTSTART:20260329T010000
END:DAYLIGHT
BEGIN:STANDARD
TZOFFSETFROM:+0200
TZOFFSETTO:+0100
TZNAME:CET
DTSTART:20261025T010000
END:STANDARD
END:VTIMEZONE
BEGIN:VEVENT
DTSTART;TZID=Europe/Zurich:20250108T170000
DTEND;TZID=Europe/Zurich:20250108T200000
DTSTAMP:20260419T165905
CREATED:20241210T123451Z
LAST-MODIFIED:20241210T132111Z
UID:35789-1736355600-1736366400@madeinchimay.be
SUMMARY:Com'media : Smartphone Photography
DESCRIPTION:« Sublimez vos photos ! 📸 Apprenez à capturer et retoucher des clichés incroyables avec votre smartphone. » \nCet atelier est également proposé le jeudi 16/01 de 9.00 à 12.00 !
URL:https://madeinchimay.be/agenda/commedia-smartphone-photography/
LOCATION:Made in Chimay\, Rue d'Angleterre 10\, Chimay\, 6460\, Belgique
CATEGORIES:Formations
ATTACH;FMTTYPE=image/png:https://madeinchimay.be/wp-content/uploads/2024/12/1.png
ORGANIZER;CN="Made in Chimay":MAILTO:mic@chimayville.be
END:VEVENT
BEGIN:VEVENT
DTSTART;TZID=Europe/Zurich:20250109T170000
DTEND;TZID=Europe/Zurich:20250109T190000
DTSTAMP:20260419T165905
CREATED:20241129T105743Z
LAST-MODIFIED:20250403T103346Z
UID:35737-1736442000-1736449200@madeinchimay.be
SUMMARY:AfterWork - Galette des rois
DESCRIPTION:😋 Halte au régime ! On continue après les fêtes ! Quoi de mieux qu’une bonne galette pour débuter l’année ? Découvrez nos espaces et nos nouveaux projets à venir ! 👑 
URL:https://madeinchimay.be/agenda/afterwork-galette-des-rois/
LOCATION:Made in Chimay\, Rue d'Angleterre 10\, Chimay\, 6460\, Belgique
CATEGORIES:Convivialité
ATTACH;FMTTYPE=image/png:https://madeinchimay.be/wp-content/uploads/2024/11/2-1.png
ORGANIZER;CN="Made in Chimay":MAILTO:mic@chimayville.be
END:VEVENT
BEGIN:VEVENT
DTSTART;TZID=Europe/Zurich:20250114T170000
DTEND;TZID=Europe/Zurich:20250114T200000
DTSTAMP:20260419T165905
CREATED:20241210T124044Z
LAST-MODIFIED:20241210T124044Z
UID:35800-1736874000-1736884800@madeinchimay.be
SUMMARY:Ableton : Session Ouverte
DESCRIPTION:Venez rencontrer les #MusicMakers 🎵 #MadeInChimay lors de notre tout premier atelier de l’année. Ne manquez pas ce moment de créativité musicale ! 🎧
URL:https://madeinchimay.be/agenda/ableton-session-ouverte/
LOCATION:Made in Chimay\, Rue d'Angleterre 10\, Chimay\, 6460\, Belgique
CATEGORIES:Formations
ATTACH;FMTTYPE=image/png:https://madeinchimay.be/wp-content/uploads/2024/12/3.png
ORGANIZER;CN="Made in Chimay":MAILTO:mic@chimayville.be
END:VEVENT
BEGIN:VEVENT
DTSTART;TZID=Europe/Zurich:20250116T090000
DTEND;TZID=Europe/Zurich:20250116T120000
DTSTAMP:20260419T165905
CREATED:20241210T124253Z
LAST-MODIFIED:20241210T132154Z
UID:35805-1737018000-1737028800@madeinchimay.be
SUMMARY:Com'media : Smartphone Photography
DESCRIPTION:« Sublimez vos photos ! 📸 Apprenez à capturer et retoucher des clichés incroyables avec votre smartphone. » \nCet atelier est également proposé le mardi 08/01 de 17.00 à 20.00 !
URL:https://madeinchimay.be/agenda/commedia-smartphone-photography-2/
LOCATION:Made in Chimay\, Rue d'Angleterre 10\, Chimay\, 6460\, Belgique
CATEGORIES:Formations
ATTACH;FMTTYPE=image/png:https://madeinchimay.be/wp-content/uploads/2024/11/4-2.png
ORGANIZER;CN="Made in Chimay":MAILTO:mic@chimayville.be
END:VEVENT
BEGIN:VEVENT
DTSTART;TZID=Europe/Zurich:20250116T170000
DTEND;TZID=Europe/Zurich:20250116T190000
DTSTAMP:20260419T165905
CREATED:20241129T110225Z
LAST-MODIFIED:20241210T124548Z
UID:35757-1737046800-1737054000@madeinchimay.be
SUMMARY:Session OpenLab
DESCRIPTION:🛠️ Session libre au Fablab ! Découverte de l’imprimante 3D\, découpe laser\, flocage\, vinyle… ✨ Accompagnement dans vos projets personnels 🤝 Echangez et partagez vos idées avec d’autres passionnés de création ! 🎨
URL:https://madeinchimay.be/agenda/session-openlab/
LOCATION:Made in Chimay\, Rue d'Angleterre 10\, Chimay\, 6460\, Belgique
CATEGORIES:initiations
ATTACH;FMTTYPE=image/png:https://madeinchimay.be/wp-content/uploads/2024/11/5-1.png
ORGANIZER;CN="Made in Chimay":MAILTO:mic@chimayville.be
END:VEVENT
BEGIN:VEVENT
DTSTART;TZID=Europe/Zurich:20250118T093000
DTEND;TZID=Europe/Zurich:20250118T123000
DTSTAMP:20260419T165905
CREATED:20241129T110610Z
LAST-MODIFIED:20241210T124603Z
UID:35762-1737192600-1737203400@madeinchimay.be
SUMMARY:Repair Café
DESCRIPTION:🛠️⚙️ Réparer plutôt que Jeter ! Apprenez à réparez vos objets électriques du quotidien avec l’aide de nos bénévoles : TV\, aspi\, grille-pains\, …
URL:https://madeinchimay.be/agenda/repair-cafe/
LOCATION:Made in Chimay\, Rue d'Angleterre 10\, Chimay\, 6460\, Belgique
CATEGORIES:initiations
ATTACH;FMTTYPE=image/png:https://madeinchimay.be/wp-content/uploads/2024/11/6-2.png
ORGANIZER;CN="Made in Chimay":MAILTO:mic@chimayville.be
END:VEVENT
BEGIN:VEVENT
DTSTART;TZID=Europe/Zurich:20250122T170000
DTEND;TZID=Europe/Zurich:20250122T200000
DTSTAMP:20260419T165905
CREATED:20241210T125003Z
LAST-MODIFIED:20250218T133519Z
UID:35815-1737565200-1737576000@madeinchimay.be
SUMMARY:Com'media : Shooting Produit
DESCRIPTION:Formation payante\, découvrez notre tarification adaptée à votre statut (citoyen/asbl/indépendant/entreprise) via notre page tarifs \nMettez vos produits en valeur ! 📸 Participez à notre atelier de shooting produit et apprenez à créer des visuels percutants. \nCette formation est également proposé le jeudi 30/01 de 9.00 à 12.00 !
URL:https://madeinchimay.be/agenda/commedia-shooting-produit/
LOCATION:Made in Chimay\, Rue d'Angleterre 10\, Chimay\, 6460\, Belgique
CATEGORIES:Formations
ATTACH;FMTTYPE=image/png:https://madeinchimay.be/wp-content/uploads/2024/11/7-2.png
ORGANIZER;CN="Made in Chimay":MAILTO:mic@chimayville.be
END:VEVENT
BEGIN:VEVENT
DTSTART;TZID=Europe/Zurich:20250125T140000
DTEND;TZID=Europe/Zurich:20250125T200000
DTSTAMP:20260419T165905
CREATED:20241210T125155Z
LAST-MODIFIED:20241210T125155Z
UID:35818-1737813600-1737835200@madeinchimay.be
SUMMARY:Expo Thomas Bosmans
DESCRIPTION:Plongez dans les univers captivants d’un photographe local 🌍🎶. Une exposition unique mêlant nature\, street\, concerts et inspirations personnelles vous attend !
URL:https://madeinchimay.be/agenda/expo-thomas-bosmans/
LOCATION:Made in Chimay\, Rue d'Angleterre 10\, Chimay\, 6460\, Belgique
CATEGORIES:Exposition
ATTACH;FMTTYPE=image/png:https://madeinchimay.be/wp-content/uploads/2024/11/8.png
ORGANIZER;CN="Made in Chimay":MAILTO:mic@chimayville.be
END:VEVENT
BEGIN:VEVENT
DTSTART;TZID=Europe/Zurich:20250128T170000
DTEND;TZID=Europe/Zurich:20250128T190000
DTSTAMP:20260419T165905
CREATED:20241129T111150Z
LAST-MODIFIED:20241210T124731Z
UID:35770-1738083600-1738090800@madeinchimay.be
SUMMARY:Fablab - Support flyers personnalisé
DESCRIPTION:📢 Vous voulez que vos flyers sortent du lot ? Participez à un atelier créatif pour apprendre à concevoir des supports originaux et sur-mesure à l’aide de la découpeuse laser ! ✨
URL:https://madeinchimay.be/agenda/fablab-support-flyers-personnalise/
LOCATION:Made in Chimay\, Rue d'Angleterre 10\, Chimay\, 6460\, Belgique
CATEGORIES:initiations
ATTACH;FMTTYPE=image/png:https://madeinchimay.be/wp-content/uploads/2024/11/10.png
ORGANIZER;CN="Made in Chimay":MAILTO:mic@chimayville.be
END:VEVENT
BEGIN:VEVENT
DTSTART;TZID=Europe/Zurich:20250130T090000
DTEND;TZID=Europe/Zurich:20250130T120000
DTSTAMP:20260419T165905
CREATED:20241210T125420Z
LAST-MODIFIED:20250218T133506Z
UID:35822-1738227600-1738238400@madeinchimay.be
SUMMARY:Com’media : Shooting Produit
DESCRIPTION:Formation payante\, découvrez notre tarification adaptée à votre statut (citoyen/asbl/indépendant/entreprise) via notre page tarifs \nMettez vos produits en valeur ! 📸 Participez à notre atelier de shooting produit et apprenez à créer des visuels percutants. \nCette formation est également proposé le mardi 22/01 de 17.00 à 20.00 !
URL:https://madeinchimay.be/agenda/commedia-shooting-produit-2/
LOCATION:Made in Chimay\, Rue d'Angleterre 10\, Chimay\, 6460\, Belgique
CATEGORIES:Formations
ATTACH;FMTTYPE=image/png:https://madeinchimay.be/wp-content/uploads/2024/11/11.png
ORGANIZER;CN="Made in Chimay":MAILTO:mic@chimayville.be
END:VEVENT
BEGIN:VEVENT
DTSTART;TZID=Europe/Zurich:20250130T170000
DTEND;TZID=Europe/Zurich:20250130T190000
DTSTAMP:20260419T165905
CREATED:20241129T111526Z
LAST-MODIFIED:20241210T124743Z
UID:35774-1738256400-1738263600@madeinchimay.be
SUMMARY:Session OpenLab
DESCRIPTION:🛠️ Session libre au Fablab ! Découverte de l’imprimante 3D\, découpe laser\, flocage\, vinyle… ✨ Accompagnement dans vos projets personnels 🤝 Echangez et partagez vos idées avec d’autres passionnés de création ! 🎨
URL:https://madeinchimay.be/agenda/session-openlab-2/
LOCATION:Made in Chimay\, Rue d'Angleterre 10\, Chimay\, 6460\, Belgique
CATEGORIES:initiations
ATTACH;FMTTYPE=image/png:https://madeinchimay.be/wp-content/uploads/2024/11/12.png
ORGANIZER;CN="Made in Chimay":MAILTO:mic@chimayville.be
END:VEVENT
END:VCALENDAR